BEGIN:VCALENDAR
VERSION:2.0
PRODID:-//wp-events-plugin.com//7.2.3.1//EN
BEGIN:VEVENT
UID:42@templezion.org
DTSTART;TZID=America/New_York:20240301T180000
DTEND;TZID=America/New_York:20240301T180000
DTSTAMP:20240213T155424Z
URL:https://www.templezion.org/events/shabbat-across-america/
SUMMARY:Shabbat Across America
DESCRIPTION:B'ezrat Hashem\n\nPlease Join Us for the 28th Annual 'Shabbat A
 cross America'&nbsp\;with&nbsp\;Rabbi Moshe Kieval!\n\nService at 6 pm\,&n
 bsp\;Delicious Dinner to Follow!\n\n$50/Adult\, Children Under age 18 eat 
 Free!\n\nPlease pay by check made to Temple Zion&nbsp\;(memo: Shabbat Acro
 ss America) or register below.\n\nRESERVATIONS REQUIRED BY FEBRUARY 19th\,
  2024.\n\nWe look forward to seeing you!\n\n[gravityform id="8" title="fal
 se" description="false"]
ATTACH;FMTTYPE=image/jpeg:https://www.templezion.org/wp-content/uploads/20
 24/02/SAA-logo-framed.jpg
END:VEVENT
BEGIN:VTIMEZONE
TZID:America/New_York
X-LIC-LOCATION:America/New_York
BEGIN:STANDARD
DTSTART:20231105T010000
TZOFFSETFROM:-0400
TZOFFSETTO:-0500
TZNAME:EST
END:STANDARD
END:VTIMEZONE
END:VCALENDAR