BEGIN:VCALENDAR
VERSION:2.0
PRODID:-//wp-events-plugin.com//7.2.3.1//EN
BEGIN:VEVENT
UID:38@templezion.org
DTSTART;TZID=America/New_York:20230303T173000
DTEND;TZID=America/New_York:20230303T173000
DTSTAMP:20230221T152004Z
URL:https://www.templezion.org/events/shabbat-across-america-services-dinn
 er/
SUMMARY:Shabbat Across America - Services & Dinner
DESCRIPTION:Dear Members and Friends\,\n\nOn Friday night\, March 3rd\, 202
 3\, tens of thousands of Jews across America will come together to eat\, d
 rink\, relax\, dance\, enjoy\, debate and celebrate the 27th Annual Shabba
 t Across America.\n\nHundreds of synagogues across the continent will take
  part in an historic national Jewish event to celebrate what unifies all J
 ews — Shabbat! Everyone is invited… singles\, couples\, families — a
 ll ages!\n\nPlease participate by joining us at Temple Zion for Candle Lig
 hting and Services to be led by Rabbi Elijahu Fink\, at 5:30pm\, followed 
 by a delicious dinner in Abraham Hall.\n\nFee: $36pp (Adult)\; $18 (Kids u
 nder 18)\n\nWe look forward to celebrating with you!\nSignup Form\n[gravit
 yform id="8" title="false" description="false"]
ATTACH;FMTTYPE=image/jpeg:https://www.templezion.org/wp-content/uploads/20
 23/02/shabbat2___05093519571.jpg
END:VEVENT
BEGIN:VTIMEZONE
TZID:America/New_York
X-LIC-LOCATION:America/New_York
BEGIN:STANDARD
DTSTART:20221106T010000
TZOFFSETFROM:-0400
TZOFFSETTO:-0500
TZNAME:EST
END:STANDARD
END:VTIMEZONE
END:VCALENDAR