BEGIN:VCALENDAR
VERSION:2.0
PRODID:-//wp-events-plugin.com//7.2.3.1//EN
BEGIN:VEVENT
UID:43@templezion.org
DTSTART;TZID=America/New_York:20240718T190000
DTEND;TZID=America/New_York:20240718T190000
DTSTAMP:20240620T200207Z
URL:https://www.templezion.org/events/miracle-on-maryland-cocktail-party/
SUMMARY:"Miracle on Maryland” Cocktail Party
DESCRIPTION:You're Invited To Our&nbsp\;"Miracle on Maryland”\n\nCOCKTAIL
  PARTY WITH EATS\, SIPS &amp\; LIVE JAZZ\n\nHonoring\n\nRabbi Moshe and&nb
 sp\;Rebbetzin Eden Kieval\n\nFor Their&nbsp\;Light and&nbsp\;Leadership\n\
 nTHURSDAY EVENING\,&nbsp\;JULY 18th\, 2024\nSEVEN O'CLOCK PM\n\nAbraham Ha
 ll at Temple Zion\n\nKINDLY RSVP BY JULY 11th\, 2024\n\nWe look forward to
  celebrating with you!\n\n&nbsp\;\n\n[gravityform id="10" title="false" de
 scription="false"]
ATTACH;FMTTYPE=image/jpeg:https://www.templezion.org/wp-content/uploads/20
 24/06/champagne-glasses.jpeg
END:VEVENT
BEGIN:VTIMEZONE
TZID:America/New_York
X-LIC-LOCATION:America/New_York
BEGIN:DAYLIGHT
DTSTART:20240310T030000
TZOFFSETFROM:-0500
TZOFFSETTO:-0400
TZNAME:EDT
END:DAYLIGHT
END:VTIMEZONE
END:VCALENDAR