BEGIN:VCALENDAR
VERSION:2.0
PRODID:-//wp-events-plugin.com//7.2.3.1//EN
BEGIN:VEVENT
UID:41@templezion.org
DTSTART;TZID=America/New_York:20231101T190000
DTEND;TZID=America/New_York:20231101T190000
DTSTAMP:20231027T193500Z
URL:https://www.templezion.org/events/coffee-house-benefit-concert/
SUMMARY:Coffee House Benefit Concert
DESCRIPTION:Coffee and Cake for a Cause!\nLet’s Come Together for the Sha
 bbat Project* and to Support Our Brothers and Sisters in Israel\n\nWednesd
 ay\, November 1st\, 2023 - 7pm @Temple Zion’s Abraham Hall\n\nFeaturing.
 ..\n\n 	Live Music from the Marc Ratner Trio\n 	Special Guest\, Israeli-Am
 erican Vocalist\, Rachel Barkan Vainer\n 	Assorted Dessert Delicacies and 
 Coffees\n\nDonations Appreciated - All Proceeds to Benefit&nbsp\;Magen Dav
 id Edom\n\nRSVP to:&nbsp\;info@templezion.org\n\nPlease Enter Through Park
 ing Lot Entrance\n\nWe look forward to welcoming you!\n\n*The Shabbat Proj
 ect (theshabbosproject.org)\nBenefit Concert Donation Form\n[gravityform i
 d="9" title="false" description="false"]
ATTACH;FMTTYPE=image/jpeg:https://www.templezion.org/wp-content/uploads/20
 23/10/hot-latte-art-in-white-cup-and-dry-flowers-decoration-in-glass-in-na
 tural-sunlight-at-cafe-free-photo.jpg
END:VEVENT
BEGIN:VTIMEZONE
TZID:America/New_York
X-LIC-LOCATION:America/New_York
BEGIN:DAYLIGHT
DTSTART:20230312T030000
TZOFFSETFROM:-0500
TZOFFSETTO:-0400
TZNAME:EDT
END:DAYLIGHT
END:VTIMEZONE
END:VCALENDAR