BEGIN:VCALENDAR
VERSION:2.0
PRODID:-//wp-events-plugin.com//7.2.3.1//EN
BEGIN:VEVENT
UID:48@templezion.org
DTSTART;TZID=America/New_York:20251214T190000
DTEND;TZID=America/New_York:20251214T190000
DTSTAMP:20251201T143446Z
URL:https://www.templezion.org/events/chanukah-bingo-blast-new-with-lites-
 bites/
SUMMARY:"Chanukah BINGO" Blast (NEW) with Lites & Bites
DESCRIPTION:Light the Menorah\, Enjoy Holiday Fun + Fare Amongst Friends!\n
 \n 	Festive Bites\n 	"Chanukah BINGO" with Lifestyle Prizes (Ex: gourmet f
 ood bundle\, gift card to local Kosher restaurant)\n 	Guess the Gelt Chall
 enge\n 	Music &amp\; More!\n\n***Suggested Chanukah Gelt Contribution Appr
 eciated!\n\nPlease RSVP below.\n\nLooking forward to seeing you!\n\n&nbsp\
 ;\n\n[gravityform id="11" title="false" description="false"]
ATTACH;FMTTYPE=image/jpeg:https://www.templezion.org/wp-content/uploads/20
 25/12/chanukah.jpg
END:VEVENT
BEGIN:VTIMEZONE
TZID:America/New_York
X-LIC-LOCATION:America/New_York
BEGIN:STANDARD
DTSTART:20251102T010000
TZOFFSETFROM:-0400
TZOFFSETTO:-0500
TZNAME:EST
END:STANDARD
END:VTIMEZONE
END:VCALENDAR