BEGIN:VCALENDAR
VERSION:2.0
PRODID:-//wp-events-plugin.com//7.2.3.1//EN
BEGIN:VEVENT
UID:40@templezion.org
DTSTART;TZID=America/New_York;VALUE=DATE:20230930
DTEND;TZID=America/New_York;VALUE=DATE:20231004
DTSTAMP:20230928T144523Z
URL:https://www.templezion.org/events/celebrate-sukkot-at-temple-zion/
SUMMARY:Celebrate Sukkot at Temple Zion
DESCRIPTION:Please Join Us...\nSaturday\, September 30th\, 2023\n\nfor Shab
 bat Services with Moshe Kieval\n\nPROMPT START TIME 9:30AM\nSPECIAL HOT KI
 DDUSH LUNCHEON in the SUKKAH&nbsp\;following services\n\nSunday\, October 
 1st\, 2023\n\nfor Sukkot Services with Moshe Kieval\n\nPROMPT START TIME 9
 :30AM\nDELICIOUS HOT KIDDUSH LUNCHEON in the SUKKAH following services\n\n
 Tuesday\, October 3rd\, 2023 @ 7 pm\n\nPIZZA NIGHT in the SUKKAH\nWe look 
 forward to seeing you!
ATTACH;FMTTYPE=image/jpeg:https://www.templezion.org/wp-content/uploads/20
 19/10/sukkot.jpg
END:VEVENT
BEGIN:VTIMEZONE
TZID:America/New_York
X-LIC-LOCATION:America/New_York
BEGIN:DAYLIGHT
DTSTART:20230312T030000
TZOFFSETFROM:-0500
TZOFFSETTO:-0400
TZNAME:EDT
END:DAYLIGHT
END:VTIMEZONE
END:VCALENDAR