BEGIN:VCALENDAR
VERSION:2.0
PRODID:-//wp-events-plugin.com//7.2.3.1//EN
BEGIN:VEVENT
UID:46@templezion.org
DTSTART;TZID=America/New_York:20250307T180000
DTEND;TZID=America/New_York:20250307T180000
DTSTAMP:20250206T155051Z
URL:https://www.templezion.org/events/29th-annual-shabbat-across-america/
SUMMARY:29th Annual Shabbat Across America
DESCRIPTION:Please Join Us for the 29th Annual 'Shabbat Across America'&nbs
 p\;with&nbsp\;Rabbi Moshe Kieval!\n\nDelicious Dinner to Follow!\n\nCOST: 
 $50/Adult\n\nChildren Under age 18 eat Free!\n\nRSVP REQUIRED BY 3/3/25\n\
 n-----\n\nJoin Us on Saturday\, March 8th\, 2025 for Shabbat Services led 
 by Rabbi Moshe Kieval\n\nPROMPT START TIME: 9:30AM\n\nDelicious Hot Kiddus
 h Following Services\nRSVP Form\n[gravityform id="8" title="false" descrip
 tion="false"]
ATTACH;FMTTYPE=image/jpeg:https://www.templezion.org/wp-content/uploads/20
 23/02/shabbat2___05093519571.jpg
END:VEVENT
BEGIN:VTIMEZONE
TZID:America/New_York
X-LIC-LOCATION:America/New_York
BEGIN:STANDARD
DTSTART:20241103T010000
TZOFFSETFROM:-0400
TZOFFSETTO:-0500
TZNAME:EST
END:STANDARD
END:VTIMEZONE
END:VCALENDAR